BEGIN:VCALENDAR
VERSION:2.0
PRODID:-//Humane Society of Sheboygan County - ECPv6.15.20//NONSGML v1.0//EN
CALSCALE:GREGORIAN
METHOD:PUBLISH
X-ORIGINAL-URL:https://adoptsheboygancounty.org
X-WR-CALDESC:Events for Humane Society of Sheboygan County
REFRESH-INTERVAL;VALUE=DURATION:PT1H
X-Robots-Tag:noindex
X-PUBLISHED-TTL:PT1H
BEGIN:VTIMEZONE
TZID:UTC
BEGIN:STANDARD
TZOFFSETFROM:+0000
TZOFFSETTO:+0000
TZNAME:UTC
DTSTART:20230101T000000
END:STANDARD
END:VTIMEZONE
BEGIN:VEVENT
DTSTART;VALUE=DATE:20250727
DTEND;VALUE=DATE:20250728
DTSTAMP:20260421T215341
CREATED:20241118T203127Z
LAST-MODIFIED:20250519T153444Z
UID:10000058-1753574400-1753660799@adoptsheboygancounty.org
SUMMARY:Ales for Tails
DESCRIPTION:Ales for Tails\nDate: Sunday\, July 27\, 2025\nTime: 12:30 PM – 5:00 PM\nWhere: 3 Sheeps Brewing\nJoin us for a fun family event!\n\nRaffle baskets\nCraft beer\nBrat Fry\nPet resources\nBake sale\n50/50 Raffle\nPet competition\n\nYour support makes a difference! Stay tuned for more details and ways to get involved.
URL:https://adoptsheboygancounty.org/event/ales-for-tails/
LOCATION:3 Sheep’s Brewery\, 1837 North Ave\, Sheboygan\, WI\, 53083\, United States
END:VEVENT
BEGIN:VEVENT
DTSTART;TZID=UTC:20240728T123000
DTEND;TZID=UTC:20240728T170000
DTSTAMP:20260421T215341
CREATED:20240627T192742Z
LAST-MODIFIED:20240627T195845Z
UID:10000025-1722169800-1722186000@adoptsheboygancounty.org
SUMMARY:Ales for Tales at 3 Sheep's in Sheboygan
DESCRIPTION:Join us for a great afternoon\, and support the homeless pets in Sheboygan County waiting for adoption. Each year we care for over 4\,000+ pet each year in various capacities. We provide them shelter\, get them ready for adoption\, give medical care as needed\, and help them heal to get ready for their forever home. We could not do any of this without you! \nLive Music by the Belle Weather\nRaffles\n50/50\nFood Trucks\nDog Olympics\nFree Snow Cones\nDog Resources\nBake Sale \nFood Trucks:\nJamaica Mi Krazy\nGreece e Spoon \nCan’t attend? Consider a donation to help us! We are 100% donation based and do not rely on any tax dollars to fund our services. https://adoptsheboygancounty.org/donate/
URL:https://adoptsheboygancounty.org/event/ales-for-tales-at-3-sheeps-in-sheboygan/
LOCATION:3 Sheep’s Brewery\, 1837 North Ave\, Sheboygan\, WI\, 53083\, United States
END:VEVENT
BEGIN:VEVENT
DTSTART;TZID=UTC:20240728T123000
DTEND;TZID=UTC:20240728T160000
DTSTAMP:20260421T215341
CREATED:20240710T223901Z
LAST-MODIFIED:20240710T223901Z
UID:10000035-1722169800-1722182400@adoptsheboygancounty.org
SUMMARY:2024 Dog Olympics
DESCRIPTION:Welcome to the Humane Society’s First Dog Olympics. We are excited to have Four Events at our Ales for Tales event at 3 Sheep’s Brewery. Sign up to take part in one or all of the events. Each categories first place winner will receive a prize and a prize ribbon. Sign up today. All proceeds will benefit the lifesaving work at the Humane Society of Sheboygan County. These events will coincide with our Ales for Tales fundraising event. We will have Raffle baskets\, Food Trucks\, 50/50 Raffle and Bake Sale. Join us for a fun afternoon and show off your pet! \nRegister at: 2024Olympics.givesmart.com
URL:https://adoptsheboygancounty.org/event/2024-dog-olympics/
LOCATION:3 Sheep’s Brewery\, 1837 North Ave\, Sheboygan\, WI\, 53083\, United States
END:VEVENT
END:VCALENDAR