BEGIN:VCALENDAR
VERSION:2.0
PRODID:-//Humane Society of Sheboygan County - ECPv6.15.20//NONSGML v1.0//EN
CALSCALE:GREGORIAN
METHOD:PUBLISH
X-ORIGINAL-URL:https://adoptsheboygancounty.org
X-WR-CALDESC:Events for Humane Society of Sheboygan County
REFRESH-INTERVAL;VALUE=DURATION:PT1H
X-Robots-Tag:noindex
X-PUBLISHED-TTL:PT1H
BEGIN:VTIMEZONE
TZID:UTC
BEGIN:STANDARD
TZOFFSETFROM:+0000
TZOFFSETTO:+0000
TZNAME:UTC
DTSTART:20230101T000000
END:STANDARD
END:VTIMEZONE
BEGIN:VEVENT
DTSTART;TZID=UTC:20250523T090000
DTEND;TZID=UTC:20250523T140000
DTSTAMP:20260422T002438
CREATED:20250514T173416Z
LAST-MODIFIED:20250515T204415Z
UID:10000464-1747990800-1748008800@adoptsheboygancounty.org
SUMMARY:Brat Fry & Bake Sale at Miesfeld's Triangle Market!
DESCRIPTION:Brat Fry & Bake Sale – Support Local Pets in Need! Join us at Miesfeld’s Triangle Market on Friday\, May 23\, 2025\, from 9 AM to 2 PM for a Brat Fry & Bake Sale! \nEnjoy a delicious brat or burger hot off the grill\, browse tasty baked goods\, and help support pets waiting for their second chance at a happily ever after. \nAll proceeds benefit animals in need of care and loving homes. \nCome hungry\, leave happy—and make a difference! \nWant to help?If you’d like to donate baked goods or volunteer your time at the Miesfeld Brat Fry or bake sale\, we’d love your support! Just follow the sign-up link and register with your name and email to pick a time slot that works for you. Every bit of help makes a big difference for the pets in our community. Sign up to help.  \nWe can’t wait to see you there—thank you for helping us give our furry friends a second chance at happily ever after!
URL:https://adoptsheboygancounty.org/event/brat-fry-bake-sale-at-miesfelds-triangle-market/
LOCATION:Miesfeld’s\, 4811 Venture Dr\, Sheboygan\, WI\, 53083\, United States
END:VEVENT
BEGIN:VEVENT
DTSTART;TZID=UTC:20241215T130000
DTEND;TZID=UTC:20241215T183000
DTSTAMP:20260422T002438
CREATED:20241213T185520Z
LAST-MODIFIED:20241213T185520Z
UID:10000062-1734267600-1734287400@adoptsheboygancounty.org
SUMMARY:Tattoos for the Paws 🐾
DESCRIPTION:Flash Tattoo Walk-In Special\n\nStreet Monkey Tattoos Holiday Collection Drive \n\n\nOur friends at Street Monkey Tattoos are kicking off their Christmas Collection—a tradition that fills their lobby with holiday cheer and generosity every year! They’re teaming up with @Humane Society of Sheboygan County to help fur babies and their families in need.\n\n\n“Please help us fill the shelves at the Humane Society! We’re collecting cat and dog food donations to support people going through tough times and ensure their pets stay happy and healthy.”* \n\n\n**Donation Drop-Off Times:**\n Tuesday – Friday: 1:00 PM – 6:30 PM\n Saturday: 1:00 PM – 5:00 PM\n\n\n**Perks for Donating:**\n **10% OFF Gift Certificate** on tattoos of $200+ for every donation.\n **Raffle Entry** for:\n– **50% OFF** tattoos of $300+ (by Kevin & Jeff).\n– **A CUSTOM $1\,000 TATTOO** by Jeff!\n\n\n Donations will be accepted until **December 21**. Let’s come together\, give back\, and spread love this holiday season. \n\n\nStop by\, make a difference\, and maybe score an incredible tattoo while you’re at it! \n\n\n#StreetMonkeyTattoos #HumaneSocietySheboygan #HolidayGiving #TattooForACause
URL:https://adoptsheboygancounty.org/event/tattoos-for-the-paws-%f0%9f%90%be/
LOCATION:Street Money Tattoos\, 1146 Union Ave\, Sheboygan\, 53081\, United States
END:VEVENT
END:VCALENDAR