BEGIN:VCALENDAR
VERSION:2.0
PRODID:-//Humane Society of Sheboygan County - ECPv6.15.20//NONSGML v1.0//EN
CALSCALE:GREGORIAN
METHOD:PUBLISH
X-WR-CALNAME:Humane Society of Sheboygan County
X-ORIGINAL-URL:https://adoptsheboygancounty.org
X-WR-CALDESC:Events for Humane Society of Sheboygan County
REFRESH-INTERVAL;VALUE=DURATION:PT1H
X-Robots-Tag:noindex
X-PUBLISHED-TTL:PT1H
BEGIN:VTIMEZONE
TZID:UTC
BEGIN:STANDARD
TZOFFSETFROM:+0000
TZOFFSETTO:+0000
TZNAME:UTC
DTSTART:20250101T000000
END:STANDARD
END:VTIMEZONE
BEGIN:VEVENT
DTSTART;TZID=UTC:20260502T190000
DTEND;TZID=UTC:20260502T203000
DTSTAMP:20260423T120002
CREATED:20260422T180440Z
LAST-MODIFIED:20260422T180440Z
UID:10000495-1777748400-1777753800@adoptsheboygancounty.org
SUMMARY:Animal Crackers
DESCRIPTION:Join Lakeshore Chorale and the Humane Society of Sheboygan County for Animal Crackers\, a fun and heartwarming concert featuring animal-inspired songs!  \nPresented in collaboration with the Humane Society of Sheboygan County\, the evening includes a pre-concert dog meet and greet\, opportunities to support HSSC\, and raffle baskets benefiting the organization. \n\n Saturday\, May 2\, 2026 7:00pm First Congregational Church (310 Bluff Ave\, Sheboygan\, WI)
URL:https://adoptsheboygancounty.org/event/animal-crackers/
LOCATION:First Congregational Church\, 310 Bluff Ave\, Sheboygan\, WI\, 53081\, United States
ATTACH;FMTTYPE=image/jpeg:https://adoptsheboygancounty.org/wp-content/uploads/2026/04/LC_2026-Concert-Ad_Slideshow-2.jpg
ORGANIZER;CN="Lakeshore Chorale":MAILTO:lakeshorechorale@gmail.com
END:VEVENT
END:VCALENDAR