BEGIN:VCALENDAR
VERSION:2.0
PRODID:-//Humane Society of Sheboygan County - ECPv6.15.20//NONSGML v1.0//EN
CALSCALE:GREGORIAN
METHOD:PUBLISH
X-WR-CALNAME:Humane Society of Sheboygan County
X-ORIGINAL-URL:https://adoptsheboygancounty.org
X-WR-CALDESC:Events for Humane Society of Sheboygan County
REFRESH-INTERVAL;VALUE=DURATION:PT1H
X-Robots-Tag:noindex
X-PUBLISHED-TTL:PT1H
BEGIN:VTIMEZONE
TZID:UTC
BEGIN:STANDARD
TZOFFSETFROM:+0000
TZOFFSETTO:+0000
TZNAME:UTC
DTSTART:20230101T000000
END:STANDARD
END:VTIMEZONE
BEGIN:VEVENT
DTSTART;TZID=UTC:20240320T120000
DTEND;TZID=UTC:20240320T140000
DTSTAMP:20260420T233000
CREATED:20240320T163241Z
LAST-MODIFIED:20240320T163322Z
UID:10000006-1710936000-1710943200@adoptsheboygancounty.org
SUMMARY:Pet Smart Adoption Event - Ryan Renolds
DESCRIPTION:What are you doing for lunch? We have a great idea to make your week more exciting. Stop by PetSmart (Kohler\, WI) and meet Ryan Reynoldsfrom 11 AM – 1 PM today! Get some dog kisses\, pet the pup\, and maybe even find your perfect best friend. Then swing by our friends at Arby’s next door and make a donation to get a free drink or shake with your lunch becuase you spent too much time with the doggo’s to eat.\n\nHi friends! I’m Ryan Reynolds… no not that Ryan Reynolds\, but arguably\, I’m better than the original! I came to the shelter as a stray\, so now I’m looking for my forever home! I’m a handsome guy with a scar on my snout that\, I think\, gives me character! I have lots of energy and pep in my step and for sure love to play with my humans! Some dogs here do get me pretty overwhelmed\, but there may be a more easy-going dog out there that I could share a home with. I am strong but very well behaved. Because of my strength\, older kids would probably be the best fit in my new forever home. I sit patiently waiting for my harness to go on before I walk. I like to sniff on walks but all it takes is “Come on\, Ryan” and I keep walking. I am just a big pup with a big heart. I want nothing more than to be part of a family again. Might that be with you? Oh I hope so. Love\, Ryan Reynolds.
URL:https://adoptsheboygancounty.org/event/pet-smart-adoption-event-ryan-renolds/
LOCATION:PetSmart-Sheboygan\, 4013 WI-28\, Shebogyan\, WI\, 53081\, United States
END:VEVENT
BEGIN:VEVENT
DTSTART;TZID=UTC:20240311T080000
DTEND;TZID=UTC:20240315T180000
DTSTAMP:20260420T233000
CREATED:20240213T203711Z
LAST-MODIFIED:20240311T202352Z
UID:10000002-1710144000-1710525600@adoptsheboygancounty.org
SUMMARY:Poorly Drawn Pets
DESCRIPTION:Start submitting your photos today to raise funds for our animals at https://www.facebook.com/SCAdopt/posts/828142682689352\n\n\n\nOur Second Annual Poorly Drawn Pets Facebook fundraiser is March 11 – 15. Get your own custom drawing of your pet for a $25 donation. Our staff and volunteers will do the drawing and they are guaranteed to make you laugh. 100% of the donation will go to the care and feeding of the over 3\,000+ animals we care for every year at the Humane Society of Sheboygan County. The Humane Society of Sheboygan County relies 100% on donations to provide services to animals in our county. HSSC serves 4\,000 animals every year and we rely on donations to make that work possible\, but it doesn’t mean we can’t have a little fun while we raise those funds!\n\n\n\nTO SUBMIT YOUR PHOTOS: \nSimply click the Donate button on our Facebook post https://www.facebook.com/SCAdopt/posts/828142682689352 to donate $25 per photo. Once you’ve paid\, comment below with the photo of your pet. The HSSC team and volunteers will then work their magic and your assigned “artist” will reply with a picture of your homemade masterpiece as soon as possible. There’s no limit to how many drawings you can purchase; the more donations we receive\, the more we can support animals in our community! Of course\, if you feel compelled to give more than asked\, we’d be so grateful for your generosity. Our supporters are truly the best! We are open for submissions on March 7th and want to make sure our volunteers that will start drawing on March 11th have lots of work to do. This fundraiser will go through March 15th. Submit your photos today.\n\nWant to volunteer for this event or get your classroom involved? Visit: https://www.signupgenius.com/go/10C0949ADAE2CA0FEC70-48424176-poorly#
URL:https://adoptsheboygancounty.org/event/poorly-drawn-pets/
LOCATION:Humane Society of Sheboygan County\, 3209 N 21st St\, Sheboygan\, WI\, 53083\, United States
END:VEVENT
END:VCALENDAR