BEGIN:VCALENDAR
VERSION:2.0
PRODID:-//Humane Society of Sheboygan County - ECPv6.15.20//NONSGML v1.0//EN
CALSCALE:GREGORIAN
METHOD:PUBLISH
X-WR-CALNAME:Humane Society of Sheboygan County
X-ORIGINAL-URL:https://adoptsheboygancounty.org
X-WR-CALDESC:Events for Humane Society of Sheboygan County
REFRESH-INTERVAL;VALUE=DURATION:PT1H
X-Robots-Tag:noindex
X-PUBLISHED-TTL:PT1H
BEGIN:VTIMEZONE
TZID:UTC
BEGIN:STANDARD
TZOFFSETFROM:+0000
TZOFFSETTO:+0000
TZNAME:UTC
DTSTART:20240101T000000
END:STANDARD
END:VTIMEZONE
BEGIN:VEVENT
DTSTART;TZID=UTC:20251009T180000
DTEND;TZID=UTC:20251009T200000
DTSTAMP:20260422T023056
CREATED:20250905T161601Z
LAST-MODIFIED:20250905T162005Z
UID:10000471-1760032800-1760040000@adoptsheboygancounty.org
SUMMARY:🎨 Paint Your Pet Night – Benefiting HSSC & Mental Health America
DESCRIPTION:Join us for a relaxing and meaningful night of creativity at the Humane Society of Sheboygan County! We’re teaming up with Mental Health America for a special Paint Your Pet Night on Wednesday\, October 9\, from 6–8 PM. \nYour $50 ticket includes:\n✔️ All painting supplies \n✔️ An image of your pet transferred on canvas \n✔️ Option to freehand or paint an adoptable animal \n✔️ A relaxing\, feel-good atmosphere at the shelter \n✔️ A relaxing\, feel-good atmosphere at the shelter \n📸 After registering\, you’ll send in a photo of your pet to be transferred to your canvas.\n 🖌️ No painting experience needed—just show up and have fun! \n 📅 Registration closes October 2. Spaces are limited! \nRegister here: https://myschs.app.neoncrm.com/nx/portal/neonevents/events?path=%2Fportal%2Fevents%2F23888 \nLocation: Humane Society of Sheboygan County\, 3209 N 21st St\, Sheboygan\, WI 53083\n Questions? Email darlyns@scadopt.org
URL:https://adoptsheboygancounty.org/event/%f0%9f%8e%a8-paint-your-pet-night-benefiting-hssc-mental-health-america/
LOCATION:Humane Society of Sheboygan County\, 3209 N 21st St\, Sheboygan\, WI\, 53083\, United States
ATTACH;FMTTYPE=image/jpeg:https://adoptsheboygancounty.org/wp-content/uploads/2025/09/Paint-Your-Pet-Night-Neon-16x9-1.jpg
END:VEVENT
END:VCALENDAR