BEGIN:VCALENDAR
VERSION:2.0
PRODID:-//Humane Society of Sheboygan County - ECPv6.15.20//NONSGML v1.0//EN
CALSCALE:GREGORIAN
METHOD:PUBLISH
X-WR-CALNAME:Humane Society of Sheboygan County
X-ORIGINAL-URL:https://adoptsheboygancounty.org
X-WR-CALDESC:Events for Humane Society of Sheboygan County
REFRESH-INTERVAL;VALUE=DURATION:PT1H
X-Robots-Tag:noindex
X-PUBLISHED-TTL:PT1H
BEGIN:VTIMEZONE
TZID:UTC
BEGIN:STANDARD
TZOFFSETFROM:+0000
TZOFFSETTO:+0000
TZNAME:UTC
DTSTART:20240101T000000
END:STANDARD
END:VTIMEZONE
BEGIN:VEVENT
DTSTART;TZID=UTC:20250422T080000
DTEND;TZID=UTC:20250426T230000
DTSTAMP:20260426T015355
CREATED:20250411T194425Z
LAST-MODIFIED:20250423T015238Z
UID:10000460-1745308800-1745708400@adoptsheboygancounty.org
SUMMARY:HSSC Pet Draft 2025
DESCRIPTION:We’re Drafting Our MVP’s! \nThe Humane Society of Sheboygan County is calling in some of our Most Valuable Pets this week — and you get to help choose the MVP! \nVote for your favorite MVP.  Each vote is just $1\, and every dollar goes directly toward the feeding\, care\, and medical needs of the pets waiting to find their forever homes. Vote Here \nWe’ll wrap up the week with a Brat Fry Celebration on Saturday\, April 26th from 11 AM to 2 PM at the shelter. \nSo come hungry\, come ready to vote — and who knows\, while you’re choosing your MVP\, you just might meet your new best friend! \nGiveSmart Voting Link – Click to Vote
URL:https://adoptsheboygancounty.org/event/hssc-pet-draft-2025/
LOCATION:Humane Society of Sheboygan County\, 3209 N 21st St\, Sheboygan\, WI\, 53083\, United States
END:VEVENT
BEGIN:VEVENT
DTSTART;TZID=UTC:20250426T110000
DTEND;TZID=UTC:20250426T140000
DTSTAMP:20260426T015355
CREATED:20250411T193714Z
LAST-MODIFIED:20250411T195711Z
UID:10000459-1745665200-1745676000@adoptsheboygancounty.org
SUMMARY:HSSC Draft Celebration Brat Fry
DESCRIPTION:Join us for a Brat Fry at the Humane Society of Sheboygan County to celebrate the Pet Draft and all our amazing adoptable prospects! \nDate: Saturday\, April 26thTime: 11:00 AM – 2:00 PMLocation: Humane Society of Sheboygan County Parking Lot3209 N 21st Street\, Sheboygan \nSwing by for a delicious brat\, support the pets we love\, and maybe meet your new best friend! It’s the perfect way to spend an afternoon — food\, fun\, and furry companions waiting to be drafted into loving homes. \nWe hope to see you there!
URL:https://adoptsheboygancounty.org/event/hssc-draft-celebration-brat-fry/
LOCATION:Humane Society of Sheboygan County\, 3209 N 21st St\, Sheboygan\, WI\, 53083\, United States
END:VEVENT
END:VCALENDAR